BEGIN:VCALENDAR
VERSION:2.0
PRODID:-//Beaumont&#039;s Seven Harbors White and Duck Lake Association - ECPv6.15.20//NONSGML v1.0//EN
CALSCALE:GREGORIAN
METHOD:PUBLISH
X-ORIGINAL-URL:https://7-harbors.org
X-WR-CALDESC:Events for Beaumont&#039;s Seven Harbors White and Duck Lake Association
REFRESH-INTERVAL;VALUE=DURATION:PT1H
X-Robots-Tag:noindex
X-PUBLISHED-TTL:PT1H
BEGIN:VTIMEZONE
TZID:UTC
BEGIN:STANDARD
TZOFFSETFROM:+0000
TZOFFSETTO:+0000
TZNAME:UTC
DTSTART:20200101T000000
END:STANDARD
END:VTIMEZONE
BEGIN:VEVENT
DTSTART;TZID=UTC:20211030T110000
DTEND;TZID=UTC:20211030T140000
DTSTAMP:20260424T005611
CREATED:20211023T215137Z
LAST-MODIFIED:20211114T011639Z
UID:831-1635591600-1635602400@7-harbors.org
SUMMARY:Trunk or Treat 2021
DESCRIPTION:We are having a Halloween party for elementary age or under children in the community\, it will be held Saturday\, October 30th at 11:00am and our South Beach Outlot.  Please contact Jodi at jodi.michela@sevenharbors.org if you would like to participate or volunteer to make this a great event for our kids. \n \nHighland Township – Anyone who desires to participate in Halloween related activities\, should adhere to any public health recommendations from the County Health Department and the State of Michigan. If you have any Covid-19 symptoms\, please do not participate in any Trick-or-treating activities. Please be safe and use common sense by wearing masks and practicing social distancing. \n 
URL:https://7-harbors.org/event/trunk-or-treat-2021/
CATEGORIES:Community
ORGANIZER;CN="Jodi Michela":MAILTO:jodi.michela@sevenharbors.org
END:VEVENT
END:VCALENDAR