BEGIN:VCALENDAR
VERSION:2.0
PRODID:-//Beaumont&#039;s Seven Harbors White and Duck Lake Association - ECPv6.15.20//NONSGML v1.0//EN
CALSCALE:GREGORIAN
METHOD:PUBLISH
X-WR-CALNAME:Beaumont&#039;s Seven Harbors White and Duck Lake Association
X-ORIGINAL-URL:https://7-harbors.org
X-WR-CALDESC:Events for Beaumont&#039;s Seven Harbors White and Duck Lake Association
REFRESH-INTERVAL;VALUE=DURATION:PT1H
X-Robots-Tag:noindex
X-PUBLISHED-TTL:PT1H
BEGIN:VTIMEZONE
TZID:America/Detroit
BEGIN:DAYLIGHT
TZOFFSETFROM:-0500
TZOFFSETTO:-0400
TZNAME:EDT
DTSTART:20200308T070000
END:DAYLIGHT
BEGIN:STANDARD
TZOFFSETFROM:-0400
TZOFFSETTO:-0500
TZNAME:EST
DTSTART:20201101T060000
END:STANDARD
BEGIN:DAYLIGHT
TZOFFSETFROM:-0500
TZOFFSETTO:-0400
TZNAME:EDT
DTSTART:20210314T070000
END:DAYLIGHT
BEGIN:STANDARD
TZOFFSETFROM:-0400
TZOFFSETTO:-0500
TZNAME:EST
DTSTART:20211107T060000
END:STANDARD
BEGIN:DAYLIGHT
TZOFFSETFROM:-0500
TZOFFSETTO:-0400
TZNAME:EDT
DTSTART:20220313T070000
END:DAYLIGHT
BEGIN:STANDARD
TZOFFSETFROM:-0400
TZOFFSETTO:-0500
TZNAME:EST
DTSTART:20221106T060000
END:STANDARD
BEGIN:DAYLIGHT
TZOFFSETFROM:-0500
TZOFFSETTO:-0400
TZNAME:EDT
DTSTART:20230312T070000
END:DAYLIGHT
BEGIN:STANDARD
TZOFFSETFROM:-0400
TZOFFSETTO:-0500
TZNAME:EST
DTSTART:20231105T060000
END:STANDARD
BEGIN:DAYLIGHT
TZOFFSETFROM:-0500
TZOFFSETTO:-0400
TZNAME:EDT
DTSTART:20240310T070000
END:DAYLIGHT
BEGIN:STANDARD
TZOFFSETFROM:-0400
TZOFFSETTO:-0500
TZNAME:EST
DTSTART:20241103T060000
END:STANDARD
BEGIN:DAYLIGHT
TZOFFSETFROM:-0500
TZOFFSETTO:-0400
TZNAME:EDT
DTSTART:20250309T070000
END:DAYLIGHT
BEGIN:STANDARD
TZOFFSETFROM:-0400
TZOFFSETTO:-0500
TZNAME:EST
DTSTART:20251102T060000
END:STANDARD
BEGIN:DAYLIGHT
TZOFFSETFROM:-0500
TZOFFSETTO:-0400
TZNAME:EDT
DTSTART:20260308T070000
END:DAYLIGHT
BEGIN:STANDARD
TZOFFSETFROM:-0400
TZOFFSETTO:-0500
TZNAME:EST
DTSTART:20261101T060000
END:STANDARD
END:VTIMEZONE
BEGIN:VEVENT
DTSTART;TZID=America/Detroit:20251027T190000
DTEND;TZID=America/Detroit:20251027T203000
DTSTAMP:20260423T142300
CREATED:20250222T113710Z
LAST-MODIFIED:20250428T185631Z
UID:4475-1761591600-1761597000@7-harbors.org
SUMMARY:Join us at the 7 Harbors General Membership Meeting on Monday\, October 27th\, 2025 at 7pm\, VFW Hall
DESCRIPTION:New\, Updates\, and everything what’s important to us!!
URL:https://7-harbors.org/event/join-us-at-the-7-harbors-general-membership-meeting-on-tuesday-october-28th-2025-at-7pm-vfw-hall/
LOCATION:VFW Post 9914\, 3200 N. Duck Lake Rd\, Highland\, MI\, 48356\, United States
CATEGORIES:Community,Meetings,VFW
ORGANIZER;CN="7 Harbors":MAILTO:contact@sevenharbors.org
END:VEVENT
BEGIN:VEVENT
DTSTART;TZID=America/Detroit:20250922T190000
DTEND;TZID=America/Detroit:20250922T203000
DTSTAMP:20260423T142300
CREATED:20250222T113543Z
LAST-MODIFIED:20250428T185836Z
UID:4473-1758567600-1758573000@7-harbors.org
SUMMARY:Join us at the 7 Harbors General Membership Meeting on Monday\, September 22nd\, 2025 at 7pm\, VFW Hall
DESCRIPTION:New\, Updates\, and everything what’s important to us!!
URL:https://7-harbors.org/event/join-us-at-the-7-harbors-general-membership-meeting-on-tuesday-september-23rd-2025-at-7pm-vfw-hall/
LOCATION:VFW Post 9914\, 3200 N. Duck Lake Rd\, Highland\, MI\, 48356\, United States
CATEGORIES:Community,Meetings,VFW
ORGANIZER;CN="7 Harbors":MAILTO:contact@sevenharbors.org
END:VEVENT
BEGIN:VEVENT
DTSTART;TZID=America/Detroit:20250825T190000
DTEND;TZID=America/Detroit:20250825T203000
DTSTAMP:20260423T142300
CREATED:20250222T113428Z
LAST-MODIFIED:20250428T185907Z
UID:4470-1756148400-1756153800@7-harbors.org
SUMMARY:Join us at the 7 Harbors General Membership Meeting on Monday\, August 25th\, 2025 at 7pm\, VFW Hall
DESCRIPTION:New\, Updates\, and everything what’s important to us!!
URL:https://7-harbors.org/event/join-us-at-the-7-harbors-general-membership-meeting-on-tuesday-august-26th-2025-at-7pm-vfw-hall/
LOCATION:VFW Post 9914\, 3200 N. Duck Lake Rd\, Highland\, MI\, 48356\, United States
CATEGORIES:Community,Meetings,VFW
ORGANIZER;CN="7 Harbors":MAILTO:contact@sevenharbors.org
END:VEVENT
BEGIN:VEVENT
DTSTART;TZID=America/Detroit:20250623T190000
DTEND;TZID=America/Detroit:20250623T203000
DTSTAMP:20260423T142300
CREATED:20250222T113307Z
LAST-MODIFIED:20250428T185942Z
UID:4468-1750705200-1750710600@7-harbors.org
SUMMARY:Join us at the 7 Harbors General Membership Meeting on Monday\, June 23rd\, 2025 at 7pm\, VFW Hall
DESCRIPTION:New\, Updates\, and everything what’s important to us!!
URL:https://7-harbors.org/event/join-us-at-the-7-harbors-general-membership-meeting-on-tuesday-june-24th-2025-at-7pm-vfw-hall/
LOCATION:VFW Post 9914\, 3200 N. Duck Lake Rd\, Highland\, MI\, 48356\, United States
CATEGORIES:Community,Meetings,VFW
ORGANIZER;CN="7 Harbors":MAILTO:contact@sevenharbors.org
END:VEVENT
BEGIN:VEVENT
DTSTART;TZID=America/Detroit:20250519T190000
DTEND;TZID=America/Detroit:20250519T193000
DTSTAMP:20260423T142300
CREATED:20250222T113130Z
LAST-MODIFIED:20250428T185747Z
UID:4466-1747681200-1747683000@7-harbors.org
SUMMARY:Join us at the 7 Harbors General Membership Meeting on Monday\, May 19th\, 2025 at 7pm\, VFW Hall
DESCRIPTION:New\, Updates\, and everything what’s important to us!!
URL:https://7-harbors.org/event/join-us-at-the-7-harbors-general-membership-meeting-on-tuesday-may-20th-2025-at-7pm-vfw-hall/
LOCATION:VFW Post 9914\, 3200 N. Duck Lake Rd\, Highland\, MI\, 48356\, United States
CATEGORIES:Community,Meetings,VFW
ORGANIZER;CN="7 Harbors":MAILTO:contact@sevenharbors.org
END:VEVENT
BEGIN:VEVENT
DTSTART;TZID=America/Detroit:20250428T190000
DTEND;TZID=America/Detroit:20250428T203000
DTSTAMP:20260423T142300
CREATED:20250222T112721Z
LAST-MODIFIED:20250428T185656Z
UID:4461-1745866800-1745872200@7-harbors.org
SUMMARY:Join us at the 7 Harbors General Membership Meeting on Monday\, April 28th\, 2025 at 7pm\, VFW Hall
DESCRIPTION:New\, Updates\, and everything what’s important to us!!
URL:https://7-harbors.org/event/join-us-at-the-7-harbors-general-membership-meeting-on-tuesday-april-29th-2025-at-7pm-vfw-hall/
LOCATION:VFW Post 9914\, 3200 N. Duck Lake Rd\, Highland\, MI\, 48356\, United States
CATEGORIES:Community,Meetings,VFW
ORGANIZER;CN="7 Harbors":MAILTO:contact@sevenharbors.org
END:VEVENT
BEGIN:VEVENT
DTSTART;TZID=America/Detroit:20250225T190000
DTEND;TZID=America/Detroit:20250225T203000
DTSTAMP:20260423T142300
CREATED:20250222T112405Z
LAST-MODIFIED:20250222T112956Z
UID:4459-1740510000-1740515400@7-harbors.org
SUMMARY:Join us at the 7 Harbors General Membership Meeting on Tuesday\, February 25th\, 2025 at 7pm\, VFW Hall
DESCRIPTION:News\, updates and everything what’s important to all of us!!
URL:https://7-harbors.org/event/join-us-at-the-7-harbors-general-membership-meeting-on-february-25th-2025-at-7pm-vfw-hall/
LOCATION:VFW Post 9914\, 3200 N. Duck Lake Rd\, Highland\, MI\, 48356\, United States
CATEGORIES:Community,Meetings,VFW
ORGANIZER;CN="7 Harbors":MAILTO:contact@sevenharbors.org
END:VEVENT
BEGIN:VEVENT
DTSTART;TZID=America/Detroit:20240923T190000
DTEND;TZID=America/Detroit:20240923T210000
DTSTAMP:20260423T142300
CREATED:20240827T220913Z
LAST-MODIFIED:20240918T011143Z
UID:4384-1727118000-1727125200@7-harbors.org
SUMMARY:September 23rd\, 2024  - 7 Harbors General Member Meeting - 2025 Board Election and Voting
DESCRIPTION:Come and join this important meeting in September for the 2025 Board Member Elections and your vote on important changes in your community and HOA.  \nBoard Member nominees for 2024/25 Board Members: \nExecutive Board\nPresident – Aleta Dyling\nVice President – Robert Linson\n2nd Vice President – Jeff Bosch\nTreasurer – Bob Sexton\nSecretary – Lindsey LaRosa \nTrustees\nTom Oltesvig\nBill Slack\nKevin Wichers\nNatalie Gardner\nJoan Cooper\nDeann Craw\nSteve Kirchner\nNick Kutsoginis\nNicole Slating\nJustin Klopf \nHOA Annual Dues Increase \n· $100 dues increase to cover increasing expenses \nBY-LAW & CONSTITUTION PROPOSED CHANGES\n1. Remove all mention of Liens in Bylaws (Article IX Section 4 removed entirely\,\nSection 5 modified\, Section 6\, Article XI Section 2).\n2. Remove first two sentences of Bylaws Article VII\, Section 3 “Each member shall be\nentitled to one vote. Husband and wife owning by the entireties shall each be entitled\nto one vote. ” Voting entitlement is described in 7harbors Constitution article 4 section\n3\, which was voted on July 18 2019”.\n3. Remove wording in Bylaws Article III Section 1 and 2 regarding rotating board positions and two year terms.\n4. Change limit of Proxies that may be carried in by a member into a voting meeting\nfrom 5 to 1.\n5. Add statement to Article VII\, Section 3 of Bylaws\, stating the limit number of proxies\n(either 1 or 5\, depending on outcome of voting option 4) that may be carried in to the\nvoting meeting by a single member.\n6. Add sentence to Article VII\, Section 3 of Bylaws\, stating “Refer to Article 4 section 3\nof the Seven Harbors Constitution for voting entitlement”.\n7. Remove wording regarding 25% annual dues penalty from Article 9 Section 5 of the\nBylaws and Article 3 section 2 of the Constitution.\n8. Remove reference of Membership cards from Article XI Section 1 of the Bylaws.\n9. Remove this sentence “No poultry\, cattle\, horses\, fowl\, or swine shall be kept within\nthe Association as pets or for livestock purposes. ” from Article XIV Section 1 of the\nBylaws\, and replace with the words “follow Highland township code of ordinance.”\n10. Article 4 section 1 of the Constitution\, change wording from “Only paid-up members shall have a vote. Members who have not paid their maintenance fees\, special\nassessments or penalties up to date may not have a voice and may not have a vote.”\nReplace with original verbiage: “Members who have not paid their dues up to date\nmay have a voice but no vote.”\n11. Article 4 section 4 of the Constitution\, change the limit of non-emergency expenses the Board can approve from $2500 to $10\,000
URL:https://7-harbors.org/event/september-23rd-2024-7-harbors-general-member-meeting-2025-board-election-and-voting/
LOCATION:VFW Post 9914\, 3200 N. Duck Lake Rd\, Highland\, MI\, 48356\, United States
CATEGORIES:Meetings,VFW
ORGANIZER;CN="7 Harbors":MAILTO:contact@sevenharbors.org
END:VEVENT
BEGIN:VEVENT
DTSTART;TZID=America/Detroit:20240722T190000
DTEND;TZID=America/Detroit:20240722T203000
DTSTAMP:20260423T142300
CREATED:20240718T134322Z
LAST-MODIFIED:20240718T134527Z
UID:4354-1721674800-1721680200@7-harbors.org
SUMMARY:7 Harbors General Members Meeting Monday\, July 22nd\, 7pm at VFW Hall
DESCRIPTION:Come and join us for the July GMM at the VFW Hall. You can find the June Treasury and Budget report in the member’s section for your reference.
URL:https://7-harbors.org/event/7-harbors-general-members-meeting-monday-july-22nd-7pm-at-vfw-hall/
LOCATION:VFW Post 9914\, 3200 N. Duck Lake Rd\, Highland\, MI\, 48356\, United States
CATEGORIES:Meetings,VFW
ORGANIZER;CN="7 Harbors":MAILTO:contact@sevenharbors.org
END:VEVENT
BEGIN:VEVENT
DTSTART;TZID=America/Detroit:20240603T190000
DTEND;TZID=America/Detroit:20240603T203000
DTSTAMP:20260423T142300
CREATED:20240511T103531Z
LAST-MODIFIED:20240511T103531Z
UID:4252-1717441200-1717446600@7-harbors.org
SUMMARY:7 Harbors June GMM\, June 3rd\, 2024 at 7pm WFW
DESCRIPTION:Please join us at our June 2024 GMM at 7pm at the VFW Hall\n \n\n 	\nGeneral Updates\n\n \n 	\nBudget 2024-2025 Presentation and Voting\n\n \n 	\n4th of July preparation\n\n \n 	\nOther topics and information
URL:https://7-harbors.org/event/7-harbors-june-gmm-june-3rd-2024-at-7pm-wfw/
LOCATION:VFW Post 9914\, 3200 N. Duck Lake Rd\, Highland\, MI\, 48356\, United States
CATEGORIES:Community,Meetings,VFW
ORGANIZER;CN="7 Harbors":MAILTO:contact@sevenharbors.org
END:VEVENT
BEGIN:VEVENT
DTSTART;TZID=America/Detroit:20240422T190000
DTEND;TZID=America/Detroit:20240422T203000
DTSTAMP:20260423T142300
CREATED:20240324T154558Z
LAST-MODIFIED:20240324T154558Z
UID:4235-1713812400-1713817800@7-harbors.org
SUMMARY:General Members Meeting April 22nd at the VFW\, 7pm
DESCRIPTION:Please join us at the April 22nd\, 2024\, General Members Meeting at the VFW\, \nAgenda will follow.
URL:https://7-harbors.org/event/general-members-meeting-april-22nd-at-the-vfw-7pm/
LOCATION:VFW Post 9914\, 3200 N. Duck Lake Rd\, Highland\, MI\, 48356\, United States
CATEGORIES:Meetings,VFW
ORGANIZER;CN="7 Harbors":MAILTO:contact@sevenharbors.org
END:VEVENT
BEGIN:VEVENT
DTSTART;TZID=America/Detroit:20230925T190000
DTEND;TZID=America/Detroit:20230925T210000
DTSTAMP:20260423T142300
CREATED:20230830T225113Z
LAST-MODIFIED:20230830T225125Z
UID:4080-1695668400-1695675600@7-harbors.org
SUMMARY:2024/25 Board Member and Trustees Election Night
DESCRIPTION:2024/25 Board Member and Trustees Nominations\n\n\nDear respected members of our community\, \nthe nominations for the 2024/25 board members and trustees were completed during our August 28th\, 2023\, General Members Meeting. \nThank you to all volunteers that would like to be part of this community and to take an active role in how to shape our future for all of us. \nThe following association members were nominated for the 2024/25 Board and Trustees: \nExecutive Board\nPresident – Bob Schiff nominated Aleta Dyling\nVice–President – Kelly Linson nominated Robert Linson\nSecond Vice-President – Aleta Dyling nominated Jeff Bosch\nTreasurer – Shelly Kirchner nominated Sharon Crary\nSecretary – Aleta Dyling nominated Nancy Drury \nTrustees\nAleta Dyling nominated Nichole Slating\, Steve Kirchner\, Joan Cooper\, Justin Klopf\, Vicki Zellinger and Rhonda Linovitz.\nJoan Cooper nominated DeAnne Craw and Natalie Gardner\nNichole Slating nominated Scott Rickert\nNancy Oltsevig nominated Nick Kutsoginis\nJodi Michela nominated Kevin Wickers and Tim Pautsch \nThe voting for the new board and trustees will be done on September 25th\,2023\, 7pm at the VFW Hall. \nVoting Rules and Proxy Forms can be found by clicking this link: \nVoting Rules | Beaumont’s Seven Harbors White and Duck Lake Association (7-harbors.org)
URL:https://7-harbors.org/event/2024-25-board-member-and-trustees-election-night/
LOCATION:VFW Hall
CATEGORIES:Community,Meetings,VFW
ORGANIZER;CN="7 Harbors":MAILTO:contact@sevenharbors.org
END:VEVENT
BEGIN:VEVENT
DTSTART;TZID=America/Detroit:20230828T190000
DTEND;TZID=America/Detroit:20230828T203000
DTSTAMP:20260423T142300
CREATED:20230815T130010Z
LAST-MODIFIED:20230815T130010Z
UID:4052-1693249200-1693254600@7-harbors.org
SUMMARY:2023 August 7 Harbors General Members Meeting at the VFW
DESCRIPTION:Join the 7 Harbors community at the August General Members meeting to nominate your candidates for the upcoming September Board Member Elections and other updates about our community.
URL:https://7-harbors.org/event/2023-august-7-harbors-general-members-meeting-at-the-vfw/
LOCATION:VFW Post 9914\, 3200 N. Duck Lake Rd\, Highland\, MI\, 48356\, United States
CATEGORIES:Meetings,VFW
ORGANIZER;CN="7 Harbors":MAILTO:contact@sevenharbors.org
END:VEVENT
BEGIN:VEVENT
DTSTART;TZID=America/Detroit:20230521T090000
DTEND;TZID=America/Detroit:20230521T150000
DTSTAMP:20260423T142300
CREATED:20230517T122407Z
LAST-MODIFIED:20230517T122407Z
UID:3871-1684659600-1684681200@7-harbors.org
SUMMARY:VFW Bikes\, Hotrods and Truck Blessing
DESCRIPTION:Hello bikers of 7 Harbors. Join our friends of the VFW Post on Sunday May 21st\, 2023. Trucks and Hotrods are welcome too  Ride safe!!!
URL:https://7-harbors.org/event/vfw-bikes-hotrods-and-truck-blessing/
LOCATION:VFW Post 9914\, 3200 N. Duck Lake Rd\, Highland\, MI\, 48356\, United States
CATEGORIES:Community,VFW
END:VEVENT
BEGIN:VEVENT
DTSTART;TZID=America/Detroit:20230327T190000
DTEND;TZID=America/Detroit:20230327T203000
DTSTAMP:20260423T142300
CREATED:20230309T201815Z
LAST-MODIFIED:20230309T201815Z
UID:3628-1679943600-1679949000@7-harbors.org
SUMMARY:7 Harbors March 2023 General Members Meeting
DESCRIPTION:Dear members and friends\, We would like to invite you to our first 2023 General Members Meeting on March 27th\, 2023 the Highland VFW Post at 7pm.\n\n\n \nImportant topics to discuss with all of you for our 2023 season to ensure we have the right focus and our joint priorities.\n\n\n \nPlease join as and we are looking forward to see many of you in person.\n\n\nFor questions\, please contact your board members at any time.\n\n\n \nSee you soon!!
URL:https://7-harbors.org/event/7-harbors-march-2023-general-members-meeting/
LOCATION:VFW Post 9914\, 3200 N. Duck Lake Rd\, Highland\, MI\, 48356\, United States
CATEGORIES:Meetings,VFW
ORGANIZER;CN="7 Harbors":MAILTO:contact@sevenharbors.org
END:VEVENT
BEGIN:VEVENT
DTSTART;TZID=America/Detroit:20221210T170000
DTEND;TZID=America/Detroit:20221210T220000
DTSTAMP:20260423T142300
CREATED:20220312T134212Z
LAST-MODIFIED:20220312T134357Z
UID:2305-1670691600-1670709600@7-harbors.org
SUMMARY:Euchre Tournament at the Highland VFW at 5pm
DESCRIPTION:Public Welcome
URL:https://7-harbors.org/event/euchre-tournament-at-the-highland-vfw-at-5pm-5/
LOCATION:VFW Post 9914\, 3200 N. Duck Lake Rd\, Highland\, MI\, 48356\, United States
CATEGORIES:VFW
END:VEVENT
BEGIN:VEVENT
DTSTART;TZID=America/Detroit:20221112T170000
DTEND;TZID=America/Detroit:20221112T220000
DTSTAMP:20260423T142300
CREATED:20220312T134051Z
LAST-MODIFIED:20220312T134352Z
UID:2303-1668272400-1668290400@7-harbors.org
SUMMARY:Euchre Tournament at the Highland VFW at 5pm
DESCRIPTION:Public Welcome
URL:https://7-harbors.org/event/euchre-tournament-at-the-highland-vfw-at-5pm-4/
LOCATION:VFW Post 9914\, 3200 N. Duck Lake Rd\, Highland\, MI\, 48356\, United States
CATEGORIES:VFW
END:VEVENT
BEGIN:VEVENT
DTSTART;TZID=America/Detroit:20221008T170000
DTEND;TZID=America/Detroit:20221008T220000
DTSTAMP:20260423T142300
CREATED:20220312T133929Z
LAST-MODIFIED:20220312T134346Z
UID:2301-1665248400-1665266400@7-harbors.org
SUMMARY:Euchre Tournament at the Highland VFW at 5pm
DESCRIPTION:Public Welcome
URL:https://7-harbors.org/event/euchre-tournament-at-the-highland-vfw-at-5pm-3/
LOCATION:VFW Post 9914\, 3200 N. Duck Lake Rd\, Highland\, MI\, 48356\, United States
CATEGORIES:VFW
END:VEVENT
BEGIN:VEVENT
DTSTART;TZID=America/Detroit:20220910T170000
DTEND;TZID=America/Detroit:20220910T220000
DTSTAMP:20260423T142300
CREATED:20220312T133811Z
LAST-MODIFIED:20220312T134339Z
UID:2299-1662829200-1662847200@7-harbors.org
SUMMARY:Euchre Tournament at the Highland VFW at 5pm
DESCRIPTION:Public Welcome
URL:https://7-harbors.org/event/euchre-tournament-at-the-highland-vfw-at-5pm-2/
LOCATION:VFW Post 9914\, 3200 N. Duck Lake Rd\, Highland\, MI\, 48356\, United States
CATEGORIES:VFW
END:VEVENT
BEGIN:VEVENT
DTSTART;TZID=America/Detroit:20220710T090000
DTEND;TZID=America/Detroit:20220710T120000
DTSTAMP:20260423T142300
CREATED:20220312T141221Z
LAST-MODIFIED:20220312T141221Z
UID:2316-1657443600-1657454400@7-harbors.org
SUMMARY:Country Breakfast at Highland VFW at 9am
DESCRIPTION:Public Welcome
URL:https://7-harbors.org/event/country-breakfast-at-highland-vfw-at-9am-5/
LOCATION:VFW Post 9914\, 3200 N. Duck Lake Rd\, Highland\, MI\, 48356\, United States
CATEGORIES:VFW
END:VEVENT
BEGIN:VEVENT
DTSTART;TZID=America/Detroit:20220612T090000
DTEND;TZID=America/Detroit:20220612T120000
DTSTAMP:20260423T142300
CREATED:20220312T141111Z
LAST-MODIFIED:20220312T141111Z
UID:2314-1655024400-1655035200@7-harbors.org
SUMMARY:Country Breakfast at Highland VFW at 9am
DESCRIPTION:Public Welcome
URL:https://7-harbors.org/event/country-breakfast-at-highland-vfw-at-9am-4/
LOCATION:VFW Post 9914\, 3200 N. Duck Lake Rd\, Highland\, MI\, 48356\, United States
CATEGORIES:VFW
END:VEVENT
BEGIN:VEVENT
DTSTART;TZID=America/Detroit:20220513T170000
DTEND;TZID=America/Detroit:20220513T200000
DTSTAMP:20260423T142300
CREATED:20220505T235901Z
LAST-MODIFIED:20220505T235938Z
UID:2627-1652461200-1652472000@7-harbors.org
SUMMARY:Steak Dinner @ Highland VFW
DESCRIPTION:
URL:https://7-harbors.org/event/steak-dinner-highland-vfw/
LOCATION:VFW Post 9914\, 3200 N. Duck Lake Rd\, Highland\, MI\, 48356\, United States
CATEGORIES:VFW
END:VEVENT
BEGIN:VEVENT
DTSTART;TZID=America/Detroit:20220508T090000
DTEND;TZID=America/Detroit:20220508T120000
DTSTAMP:20260423T142300
CREATED:20220312T140954Z
LAST-MODIFIED:20220312T140954Z
UID:2312-1652000400-1652011200@7-harbors.org
SUMMARY:Country Breakfast at Highland VFW at 9am
DESCRIPTION:Public Welcome
URL:https://7-harbors.org/event/country-breakfast-at-highland-vfw-at-9am-3/
LOCATION:VFW Post 9914\, 3200 N. Duck Lake Rd\, Highland\, MI\, 48356\, United States
CATEGORIES:VFW
END:VEVENT
BEGIN:VEVENT
DTSTART;TZID=America/Detroit:20220410T090000
DTEND;TZID=America/Detroit:20220410T120000
DTSTAMP:20260423T142300
CREATED:20220312T140839Z
LAST-MODIFIED:20220312T140839Z
UID:2310-1649581200-1649592000@7-harbors.org
SUMMARY:Country Breakfast at Highland VFW at 9am
DESCRIPTION:Public Welcome
URL:https://7-harbors.org/event/country-breakfast-at-highland-vfw-at-9am-2/
LOCATION:VFW Post 9914\, 3200 N. Duck Lake Rd\, Highland\, MI\, 48356\, United States
CATEGORIES:VFW
END:VEVENT
BEGIN:VEVENT
DTSTART;TZID=America/Detroit:20220409T170000
DTEND;TZID=America/Detroit:20220409T220000
DTSTAMP:20260423T142300
CREATED:20220312T133524Z
LAST-MODIFIED:20220312T134433Z
UID:2295-1649523600-1649541600@7-harbors.org
SUMMARY:Euchre Tournament at the Highland VFW at 5pm
DESCRIPTION:PUBLIC WELCOME
URL:https://7-harbors.org/event/euchre-tournament-at-the-highland-vfw-at-5pm/
LOCATION:VFW Post 9914\, 3200 N. Duck Lake Rd\, Highland\, MI\, 48356\, United States
CATEGORIES:VFW
END:VEVENT
BEGIN:VEVENT
DTSTART;TZID=America/Detroit:20220326T130000
DTEND;TZID=America/Detroit:20220326T220000
DTSTAMP:20260423T142300
CREATED:20220312T120535Z
LAST-MODIFIED:20220312T134424Z
UID:2262-1648299600-1648332000@7-harbors.org
SUMMARY:Helping Ukraine March 26th\, 2022 - 1pm
DESCRIPTION:
URL:https://7-harbors.org/event/helping-ukraine-march-26th-2022-1pm/
LOCATION:Eagles & VFW Highland\, Highland TWP\, 48356\, United States
CATEGORIES:Community,Highland Eagles,VFW
END:VEVENT
BEGIN:VEVENT
DTSTART;TZID=America/Detroit:20220313T090000
DTEND;TZID=America/Detroit:20220313T120000
DTSTAMP:20260423T142300
CREATED:20220312T140723Z
LAST-MODIFIED:20220312T140723Z
UID:2307-1647162000-1647172800@7-harbors.org
SUMMARY:Country Breakfast at Highland VFW at 9am
DESCRIPTION:Public Welcome
URL:https://7-harbors.org/event/country-breakfast-at-highland-vfw-at-9am/
LOCATION:VFW Post 9914\, 3200 N. Duck Lake Rd\, Highland\, MI\, 48356\, United States
CATEGORIES:VFW
END:VEVENT
BEGIN:VEVENT
DTSTART;TZID=America/Detroit:20211212T090000
DTEND;TZID=America/Detroit:20211212T120000
DTSTAMP:20260423T142300
CREATED:20211114T010950Z
LAST-MODIFIED:20211115T152549Z
UID:1629-1639299600-1639310400@7-harbors.org
SUMMARY:VFW Sunday Breakfast 9am-12pm
DESCRIPTION:
URL:https://7-harbors.org/event/vfw-sunday-breakfast/
LOCATION:VFW Post 9914\, 3200 N. Duck Lake Rd\, Highland\, MI\, 48356\, United States
CATEGORIES:VFW
END:VEVENT
BEGIN:VEVENT
DTSTART;TZID=America/Detroit:20211210T173000
DTEND;TZID=America/Detroit:20211210T203000
DTSTAMP:20260423T142300
CREATED:20211114T010843Z
LAST-MODIFIED:20211115T152524Z
UID:1625-1639157400-1639168200@7-harbors.org
SUMMARY:VFW Steak Dinner 5.30-8.30pm
DESCRIPTION:
URL:https://7-harbors.org/event/vfw-steak-dinner-6-8pm/
LOCATION:VFW Post 9914\, 3200 N. Duck Lake Rd\, Highland\, MI\, 48356\, United States
CATEGORIES:VFW
END:VEVENT
BEGIN:VEVENT
DTSTART;TZID=America/Detroit:20211205T150000
DTEND;TZID=America/Detroit:20211205T200000
DTSTAMP:20260423T142300
CREATED:20211115T153049Z
LAST-MODIFIED:20211115T220218Z
UID:1771-1638716400-1638734400@7-harbors.org
SUMMARY:VFW WWII and Korea Veterans Recognition Dinner -  RSVP Only
DESCRIPTION:To Honor All Veterans who severed during World War II and Korea \nRSVP: Call (248) 835-3263 or Tom Oltesvig (248)535-1023 or Email bear@miabilities.org  \nDate: December 5th\, 2021\nTiming: \n\n3:00 PM Arrival\n4:00 PM Dinner\n5:00 Entertainment\n6:00 Honor Ceremony\n\nCost: Free to Veterans of World War II and Korea and a Guest* \n*Guests\, each Veteran can bring one guest\, if you have families members that\nwish to join you in this celebration\, additional guests may join you for $10 per\nperson to cover our expenses \nWWII Dinner Flyer 2021
URL:https://7-harbors.org/event/vfw-wwii-and-korea-veterans-recognition-dinner/
LOCATION:VFW Post 9914\, 3200 N. Duck Lake Rd\, Highland\, MI\, 48356\, United States
CATEGORIES:VFW
END:VEVENT
END:VCALENDAR