BEGIN:VCALENDAR
VERSION:2.0
PRODID:-//Beaumont&#039;s Seven Harbors White and Duck Lake Association - ECPv6.15.20//NONSGML v1.0//EN
CALSCALE:GREGORIAN
METHOD:PUBLISH
X-ORIGINAL-URL:https://7-harbors.org
X-WR-CALDESC:Events for Beaumont&#039;s Seven Harbors White and Duck Lake Association
REFRESH-INTERVAL;VALUE=DURATION:PT1H
X-Robots-Tag:noindex
X-PUBLISHED-TTL:PT1H
BEGIN:VTIMEZONE
TZID:America/Detroit
BEGIN:DAYLIGHT
TZOFFSETFROM:-0500
TZOFFSETTO:-0400
TZNAME:EDT
DTSTART:20200308T070000
END:DAYLIGHT
BEGIN:STANDARD
TZOFFSETFROM:-0400
TZOFFSETTO:-0500
TZNAME:EST
DTSTART:20201101T060000
END:STANDARD
BEGIN:DAYLIGHT
TZOFFSETFROM:-0500
TZOFFSETTO:-0400
TZNAME:EDT
DTSTART:20210314T070000
END:DAYLIGHT
BEGIN:STANDARD
TZOFFSETFROM:-0400
TZOFFSETTO:-0500
TZNAME:EST
DTSTART:20211107T060000
END:STANDARD
BEGIN:DAYLIGHT
TZOFFSETFROM:-0500
TZOFFSETTO:-0400
TZNAME:EDT
DTSTART:20220313T070000
END:DAYLIGHT
BEGIN:STANDARD
TZOFFSETFROM:-0400
TZOFFSETTO:-0500
TZNAME:EST
DTSTART:20221106T060000
END:STANDARD
BEGIN:DAYLIGHT
TZOFFSETFROM:-0500
TZOFFSETTO:-0400
TZNAME:EDT
DTSTART:20230312T070000
END:DAYLIGHT
BEGIN:STANDARD
TZOFFSETFROM:-0400
TZOFFSETTO:-0500
TZNAME:EST
DTSTART:20231105T060000
END:STANDARD
END:VTIMEZONE
BEGIN:VTIMEZONE
TZID:UTC
BEGIN:STANDARD
TZOFFSETFROM:+0000
TZOFFSETTO:+0000
TZNAME:UTC
DTSTART:20200101T000000
END:STANDARD
END:VTIMEZONE
BEGIN:VEVENT
DTSTART;TZID=America/Detroit:20220523T190000
DTEND;TZID=America/Detroit:20220523T203000
DTSTAMP:20260423T170649
CREATED:20220411T235930Z
LAST-MODIFIED:20220518T153755Z
UID:2471-1653332400-1653337800@7-harbors.org
SUMMARY:2022 May 7 Harbors General Members Meeting @ VFW
DESCRIPTION:Please join us at our May General Members Meeting on May 23rd 2022 at 7pm at the Highland VFW. We have also uploaded the previous meeting presentation as well as the meeting minutes draft for your review in our Members section General Members Meetings | Beaumont’s Seven Harbors White and Duck Lake Association (7-harbors.org) \n\n\n\nWe are looking forward to meet many of you again to vote on our 2022/2023 Budget for your approval and to discuss upcoming events and developments with all of you.
URL:https://7-harbors.org/event/2022-may-7-harbors-general-members-meeting-vfw/
LOCATION:VFW Post 9914\, 3200 N. Duck Lake Rd\, Highland\, MI\, 48356\, United States
CATEGORIES:Meetings
ORGANIZER;CN="7 Harbors":MAILTO:7harborhood@gmail.com
END:VEVENT
BEGIN:VEVENT
DTSTART;TZID=America/Detroit:20220425T190000
DTEND;TZID=America/Detroit:20220425T203000
DTSTAMP:20260423T170649
CREATED:20220411T234234Z
LAST-MODIFIED:20220412T190930Z
UID:2464-1650913200-1650918600@7-harbors.org
SUMMARY:2022 April General Members Meeting @ VFW
DESCRIPTION:Agenda \nGeneral Members Meeting Agenda\, VFW April 25th\, 2022 07.00pm to 8.30pm Participants: All Board Members\, Trustees and HOA Members \n\n\n\nTime\nDuration (Minutes)\nTopic\nWho/Facilitator\n\n\n07:00pm\n \nBeginning of General Meeting\nMembership\n\n\n07.00-07.05\n5\nPledge of Allegiance\nAll\n\n\n07.05-07.10\n5\nWelcome and Objectives of todays meeting\, Rules of the Meeting\nWinni\n\n\n07.10-07.15\n5\nApproval of previous General Member Meeting Minutes\nNancy\n\n\n07:15-07.25\n10\nWhat has happened over the Winter Season\nBoard\n\n\n07:25-07.50\n25\n2022/2023 Budget & Treasurer Report\nSharon\n\n\n07:50-07:55\n5\nSponsors and Vendors\nJohn\n\n\n7:55-08:05\n10\nEvents & Volunteers 2022\nJodi\n\n\n08.05-08.15\n10\nBoat Slips\, Outlots and the way forward\nMike/Eric\n\n\n08.15-08.20\n5\nOur New Website\nWinni\n\n\n08:20-8.30\n10\nMiscellaneous & Other Topics\nMembership\n\n\n08:30pm\n \nEnd of the Meeting\nMembership
URL:https://7-harbors.org/event/2022-april-general-members-meeting-vfw/
LOCATION:VFW Post 9914\, 3200 N. Duck Lake Rd\, Highland\, MI\, 48356\, United States
CATEGORIES:Meetings
ORGANIZER;CN="7 Harbors":MAILTO:7harborhood@gmail.com
END:VEVENT
BEGIN:VEVENT
DTSTART;TZID=America/Detroit:20211118T183000
DTEND;TZID=America/Detroit:20211118T203000
DTSTAMP:20260423T170649
CREATED:20211113T131713Z
LAST-MODIFIED:20211114T212237Z
UID:1513-1637260200-1637267400@7-harbors.org
SUMMARY:December 2021 HOA Board Members Meeting (Closed Session)
DESCRIPTION:December 2021 Special HOA Board Members Meeting. \nClosed Session – Not open for public. 
URL:https://7-harbors.org/event/december-2021-hoa-board-members-meeting-closed-session/
LOCATION:MI
CATEGORIES:Meetings
END:VEVENT
BEGIN:VEVENT
DTSTART;TZID=UTC:20211104T190000
DTEND;TZID=UTC:20211104T203000
DTSTAMP:20260423T170649
CREATED:20211017T190222Z
LAST-MODIFIED:20211114T011653Z
UID:605-1636052400-1636057800@7-harbors.org
SUMMARY:7 Harbors General Members Meeting
DESCRIPTION:Please join us at our General Members Meeting at the Highland Eagles. Your opinion is important to us and we have to ensure we can make decisions together as One Community.
URL:https://7-harbors.org/event/7-harbors-general-members-meeting/
LOCATION:MI
CATEGORIES:Meetings
END:VEVENT
END:VCALENDAR