BEGIN:VCALENDAR
VERSION:2.0
PRODID:-//Beaumont&#039;s Seven Harbors White and Duck Lake Association - ECPv6.15.20//NONSGML v1.0//EN
CALSCALE:GREGORIAN
METHOD:PUBLISH
X-WR-CALNAME:Beaumont&#039;s Seven Harbors White and Duck Lake Association
X-ORIGINAL-URL:https://7-harbors.org
X-WR-CALDESC:Events for Beaumont&#039;s Seven Harbors White and Duck Lake Association
REFRESH-INTERVAL;VALUE=DURATION:PT1H
X-Robots-Tag:noindex
X-PUBLISHED-TTL:PT1H
BEGIN:VTIMEZONE
TZID:America/Detroit
BEGIN:DAYLIGHT
TZOFFSETFROM:-0500
TZOFFSETTO:-0400
TZNAME:EDT
DTSTART:20200308T070000
END:DAYLIGHT
BEGIN:STANDARD
TZOFFSETFROM:-0400
TZOFFSETTO:-0500
TZNAME:EST
DTSTART:20201101T060000
END:STANDARD
BEGIN:DAYLIGHT
TZOFFSETFROM:-0500
TZOFFSETTO:-0400
TZNAME:EDT
DTSTART:20210314T070000
END:DAYLIGHT
BEGIN:STANDARD
TZOFFSETFROM:-0400
TZOFFSETTO:-0500
TZNAME:EST
DTSTART:20211107T060000
END:STANDARD
BEGIN:DAYLIGHT
TZOFFSETFROM:-0500
TZOFFSETTO:-0400
TZNAME:EDT
DTSTART:20220313T070000
END:DAYLIGHT
BEGIN:STANDARD
TZOFFSETFROM:-0400
TZOFFSETTO:-0500
TZNAME:EST
DTSTART:20221106T060000
END:STANDARD
BEGIN:DAYLIGHT
TZOFFSETFROM:-0500
TZOFFSETTO:-0400
TZNAME:EDT
DTSTART:20230312T070000
END:DAYLIGHT
BEGIN:STANDARD
TZOFFSETFROM:-0400
TZOFFSETTO:-0500
TZNAME:EST
DTSTART:20231105T060000
END:STANDARD
BEGIN:DAYLIGHT
TZOFFSETFROM:-0500
TZOFFSETTO:-0400
TZNAME:EDT
DTSTART:20240310T070000
END:DAYLIGHT
BEGIN:STANDARD
TZOFFSETFROM:-0400
TZOFFSETTO:-0500
TZNAME:EST
DTSTART:20241103T060000
END:STANDARD
BEGIN:DAYLIGHT
TZOFFSETFROM:-0500
TZOFFSETTO:-0400
TZNAME:EDT
DTSTART:20250309T070000
END:DAYLIGHT
BEGIN:STANDARD
TZOFFSETFROM:-0400
TZOFFSETTO:-0500
TZNAME:EST
DTSTART:20251102T060000
END:STANDARD
BEGIN:DAYLIGHT
TZOFFSETFROM:-0500
TZOFFSETTO:-0400
TZNAME:EDT
DTSTART:20260308T070000
END:DAYLIGHT
BEGIN:STANDARD
TZOFFSETFROM:-0400
TZOFFSETTO:-0500
TZNAME:EST
DTSTART:20261101T060000
END:STANDARD
END:VTIMEZONE
BEGIN:VEVENT
DTSTART;TZID=America/Detroit:20250405T170000
DTEND;TZID=America/Detroit:20250405T200000
DTSTAMP:20260423T171156
CREATED:20250320T113158Z
LAST-MODIFIED:20250320T113158Z
UID:4493-1743872400-1743883200@7-harbors.org
SUMMARY:WLCL - Euchre Tournament April 5th\, 2025 - Come and join!!
DESCRIPTION:
URL:https://7-harbors.org/event/wlcl-euchre-tournament-april-5th-2025-come-and-join/
LOCATION:Highland Eagle Hall\, 4450 N Duck Lake Rd\, Highland\, MI\, 48356\, United States
CATEGORIES:Community,Highland Eagles
END:VEVENT
BEGIN:VEVENT
DTSTART;TZID=America/Detroit:20220509T170000
DTEND;TZID=America/Detroit:20220509T200000
DTSTAMP:20260423T171156
CREATED:20220506T002158Z
LAST-MODIFIED:20220506T002158Z
UID:2633-1652115600-1652126400@7-harbors.org
SUMMARY:1st Classic Car Show @ Highland Eagles
DESCRIPTION:
URL:https://7-harbors.org/event/1st-classic-car-show-highland-eagles/
LOCATION:Highland Eagle Hall\, 4450 N Duck Lake Rd\, Highland\, MI\, 48356\, United States
CATEGORIES:Highland Eagles
END:VEVENT
BEGIN:VEVENT
DTSTART;TZID=America/Detroit:20220508T140000
DTEND;TZID=America/Detroit:20220508T170000
DTSTAMP:20260423T171156
CREATED:20220506T002037Z
LAST-MODIFIED:20220506T002037Z
UID:2631-1652018400-1652029200@7-harbors.org
SUMMARY:Mother's Day Brunch @ Highland Eagles
DESCRIPTION:Happy Mothers Day
URL:https://7-harbors.org/event/mothers-day-brunch-highland-eagles/
LOCATION:Highland Eagle Hall\, 4450 N Duck Lake Rd\, Highland\, MI\, 48356\, United States
CATEGORIES:Highland Eagles
END:VEVENT
BEGIN:VEVENT
DTSTART;TZID=America/Detroit:20220506T170000
DTEND;TZID=America/Detroit:20220506T200000
DTSTAMP:20260423T171156
CREATED:20220505T235720Z
LAST-MODIFIED:20220505T235720Z
UID:2625-1651856400-1651867200@7-harbors.org
SUMMARY:Steak & Fish Dinner @ Highland Eagles
DESCRIPTION:
URL:https://7-harbors.org/event/steak-fish-dinner-highland-eagles/
LOCATION:Highland Eagle Hall\, 4450 N Duck Lake Rd\, Highland\, MI\, 48356\, United States
CATEGORIES:Highland Eagles
END:VEVENT
BEGIN:VEVENT
DTSTART;TZID=America/Detroit:20220416T171500
DTEND;TZID=America/Detroit:20220416T230000
DTSTAMP:20260423T171156
CREATED:20220412T001205Z
LAST-MODIFIED:20220413T131057Z
UID:2486-1650129300-1650150000@7-harbors.org
SUMMARY:First 7 Harbors Euchre Tourney @ Highland Eagles
DESCRIPTION:
URL:https://7-harbors.org/event/first-7-harbors-euchre-tourney-highland-eagles/
LOCATION:Highland Eagle Hall\, 4450 N Duck Lake Rd\, Highland\, MI\, 48356\, United States
CATEGORIES:Community,Highland Eagles
ORGANIZER;CN="7 Harbors":MAILTO:contact@sevenharbors.org
END:VEVENT
BEGIN:VEVENT
DTSTART;TZID=America/Detroit:20220326T130000
DTEND;TZID=America/Detroit:20220326T220000
DTSTAMP:20260423T171156
CREATED:20220312T120535Z
LAST-MODIFIED:20220312T134424Z
UID:2262-1648299600-1648332000@7-harbors.org
SUMMARY:Helping Ukraine March 26th\, 2022 - 1pm
DESCRIPTION:
URL:https://7-harbors.org/event/helping-ukraine-march-26th-2022-1pm/
LOCATION:Eagles & VFW Highland\, Highland TWP\, 48356\, United States
CATEGORIES:Community,Highland Eagles,VFW
END:VEVENT
BEGIN:VEVENT
DTSTART;TZID=America/Detroit:20220326T130000
DTEND;TZID=America/Detroit:20220326T140000
DTSTAMP:20260423T171156
CREATED:20220312T131042Z
LAST-MODIFIED:20220312T134414Z
UID:2283-1648299600-1648303200@7-harbors.org
SUMMARY:Highland Eagles Cornhole Tournament March 26th\, 2022 at 1pm
DESCRIPTION:Highland Eagles Cornhole Tournament March 26th\, 2022 at 1pm
URL:https://7-harbors.org/event/highland-eagles-cornhole-tournament-march-26th-2022-at-1pm/
LOCATION:Highland Eagle Hall\, 4450 N Duck Lake Rd\, Highland\, MI\, 48356\, United States
CATEGORIES:Community,Highland Eagles
END:VEVENT
BEGIN:VEVENT
DTSTART;TZID=America/Detroit:20220325T170000
DTEND;TZID=America/Detroit:20220325T200000
DTSTAMP:20260423T171156
CREATED:20220312T131453Z
LAST-MODIFIED:20220312T134408Z
UID:2289-1648227600-1648238400@7-harbors.org
SUMMARY:Fish Dinner @ Highland Eagles
DESCRIPTION:March 25th From 5-8pm
URL:https://7-harbors.org/event/fish-dinner-highland-eagles-2/
LOCATION:Highland Eagle Hall\, 4450 N Duck Lake Rd\, Highland\, MI\, 48356\, United States
CATEGORIES:Highland Eagles
END:VEVENT
BEGIN:VEVENT
DTSTART;TZID=America/Detroit:20220318T170000
DTEND;TZID=America/Detroit:20220318T200000
DTSTAMP:20260423T171156
CREATED:20220312T131348Z
LAST-MODIFIED:20220312T132046Z
UID:2287-1647622800-1647633600@7-harbors.org
SUMMARY:Fish Dinner @ Highland Eagles
DESCRIPTION:March 18th from 5 to 8pm\,
URL:https://7-harbors.org/event/fish-dinner-highland-eagles/
LOCATION:Highland Eagle Hall\, 4450 N Duck Lake Rd\, Highland\, MI\, 48356\, United States
CATEGORIES:Highland Eagles
END:VEVENT
BEGIN:VEVENT
DTSTART;TZID=America/Detroit:20220317T090000
DTEND;TZID=America/Detroit:20220317T220000
DTSTAMP:20260423T171156
CREATED:20220312T131725Z
LAST-MODIFIED:20220312T132052Z
UID:2291-1647507600-1647554400@7-harbors.org
SUMMARY:St. Patrick's Day at the Highland Eagles starting 9am
DESCRIPTION:Open from 9am in the morning. Conred Beef Dinner 12$ /Sandwich 10$
URL:https://7-harbors.org/event/st-patricks-day-at-the-highland-eagles-starting-9am/
LOCATION:Highland Eagle Hall\, 4450 N Duck Lake Rd\, Highland\, MI\, 48356\, United States
CATEGORIES:Highland Eagles
END:VEVENT
BEGIN:VEVENT
DTSTART;TZID=America/Detroit:20211211T090000
DTEND;TZID=America/Detroit:20211211T120000
DTSTAMP:20260423T171156
CREATED:20211114T004620Z
LAST-MODIFIED:20211114T011631Z
UID:1618-1639213200-1639224000@7-harbors.org
SUMMARY:Highland Eagles Christmas Breakfast with Santa 9am to 12pm
DESCRIPTION:
URL:https://7-harbors.org/event/highland-eagles-christmas-breakfast-with-santa-9am-to-12pm/
LOCATION:Highland Eagle Hall\, 4450 N Duck Lake Rd\, Highland\, MI\, 48356\, United States
CATEGORIES:Highland Eagles
END:VEVENT
BEGIN:VEVENT
DTSTART;TZID=America/Detroit:20211203T170000
DTEND;TZID=America/Detroit:20211203T200000
DTSTAMP:20260423T171156
CREATED:20211114T004339Z
LAST-MODIFIED:20211114T011558Z
UID:1614-1638550800-1638561600@7-harbors.org
SUMMARY:Highland Eagles Steak & Fish Dinner 5-8pm
DESCRIPTION:Volunteers always welcome. Contact Monica at 248-496-2567
URL:https://7-harbors.org/event/highland-eagles-steak-fish-dinner-5-8pm/
LOCATION:Highland Eagle Hall\, 4450 N Duck Lake Rd\, Highland\, MI\, 48356\, United States
CATEGORIES:Highland Eagles
END:VEVENT
BEGIN:VEVENT
DTSTART;TZID=America/Detroit:20211121T080000
DTEND;TZID=America/Detroit:20211121T120000
DTSTAMP:20260423T171156
CREATED:20211114T004843Z
LAST-MODIFIED:20211114T011612Z
UID:1620-1637481600-1637496000@7-harbors.org
SUMMARY:Highland Eagles Aux Breakfast with Bloody Mary & Mimosa Bar 9am -12pm
DESCRIPTION:
URL:https://7-harbors.org/event/highland-eagles-aux-breakfast-with-bloody-mary-mimosa-bar-9am-12pm/
LOCATION:Highland Eagle Hall\, 4450 N Duck Lake Rd\, Highland\, MI\, 48356\, United States
CATEGORIES:Highland Eagles
END:VEVENT
END:VCALENDAR