BEGIN:VCALENDAR
VERSION:2.0
PRODID:-//Beaumont&#039;s Seven Harbors White and Duck Lake Association - ECPv6.15.20//NONSGML v1.0//EN
CALSCALE:GREGORIAN
METHOD:PUBLISH
X-ORIGINAL-URL:https://7-harbors.org
X-WR-CALDESC:Events for Beaumont&#039;s Seven Harbors White and Duck Lake Association
REFRESH-INTERVAL;VALUE=DURATION:PT1H
X-Robots-Tag:noindex
X-PUBLISHED-TTL:PT1H
BEGIN:VTIMEZONE
TZID:America/Detroit
BEGIN:DAYLIGHT
TZOFFSETFROM:-0500
TZOFFSETTO:-0400
TZNAME:EDT
DTSTART:20210314T070000
END:DAYLIGHT
BEGIN:STANDARD
TZOFFSETFROM:-0400
TZOFFSETTO:-0500
TZNAME:EST
DTSTART:20211107T060000
END:STANDARD
BEGIN:DAYLIGHT
TZOFFSETFROM:-0500
TZOFFSETTO:-0400
TZNAME:EDT
DTSTART:20220313T070000
END:DAYLIGHT
BEGIN:STANDARD
TZOFFSETFROM:-0400
TZOFFSETTO:-0500
TZNAME:EST
DTSTART:20221106T060000
END:STANDARD
BEGIN:DAYLIGHT
TZOFFSETFROM:-0500
TZOFFSETTO:-0400
TZNAME:EDT
DTSTART:20230312T070000
END:DAYLIGHT
BEGIN:STANDARD
TZOFFSETFROM:-0400
TZOFFSETTO:-0500
TZNAME:EST
DTSTART:20231105T060000
END:STANDARD
BEGIN:DAYLIGHT
TZOFFSETFROM:-0500
TZOFFSETTO:-0400
TZNAME:EDT
DTSTART:20240310T070000
END:DAYLIGHT
BEGIN:STANDARD
TZOFFSETFROM:-0400
TZOFFSETTO:-0500
TZNAME:EST
DTSTART:20241103T060000
END:STANDARD
BEGIN:DAYLIGHT
TZOFFSETFROM:-0500
TZOFFSETTO:-0400
TZNAME:EDT
DTSTART:20250309T070000
END:DAYLIGHT
BEGIN:STANDARD
TZOFFSETFROM:-0400
TZOFFSETTO:-0500
TZNAME:EST
DTSTART:20251102T060000
END:STANDARD
BEGIN:DAYLIGHT
TZOFFSETFROM:-0500
TZOFFSETTO:-0400
TZNAME:EDT
DTSTART:20260308T070000
END:DAYLIGHT
BEGIN:STANDARD
TZOFFSETFROM:-0400
TZOFFSETTO:-0500
TZNAME:EST
DTSTART:20261101T060000
END:STANDARD
END:VTIMEZONE
BEGIN:VEVENT
DTSTART;TZID=America/Detroit:20250405T170000
DTEND;TZID=America/Detroit:20250405T200000
DTSTAMP:20260423T154411
CREATED:20250320T113158Z
LAST-MODIFIED:20250320T113158Z
UID:4493-1743872400-1743883200@7-harbors.org
SUMMARY:WLCL - Euchre Tournament April 5th\, 2025 - Come and join!!
DESCRIPTION:
URL:https://7-harbors.org/event/wlcl-euchre-tournament-april-5th-2025-come-and-join/
LOCATION:Highland Eagle Hall\, 4450 N Duck Lake Rd\, Highland\, MI\, 48356\, United States
CATEGORIES:Community,Highland Eagles
END:VEVENT
BEGIN:VEVENT
DTSTART;TZID=America/Detroit:20250225T190000
DTEND;TZID=America/Detroit:20250225T203000
DTSTAMP:20260423T154411
CREATED:20250222T112405Z
LAST-MODIFIED:20250222T112956Z
UID:4459-1740510000-1740515400@7-harbors.org
SUMMARY:Join us at the 7 Harbors General Membership Meeting on Tuesday\, February 25th\, 2025 at 7pm\, VFW Hall
DESCRIPTION:News\, updates and everything what’s important to all of us!!
URL:https://7-harbors.org/event/join-us-at-the-7-harbors-general-membership-meeting-on-february-25th-2025-at-7pm-vfw-hall/
LOCATION:VFW Post 9914\, 3200 N. Duck Lake Rd\, Highland\, MI\, 48356\, United States
CATEGORIES:Community,Meetings,VFW
ORGANIZER;CN="7 Harbors":MAILTO:contact@sevenharbors.org
END:VEVENT
BEGIN:VEVENT
DTSTART;TZID=America/Detroit:20240828T170000
DTEND;TZID=America/Detroit:20240828T200000
DTSTAMP:20260423T154412
CREATED:20240827T202108Z
LAST-MODIFIED:20240827T202108Z
UID:4380-1724864400-1724875200@7-harbors.org
SUMMARY:Wednesday August 28th\, 5PM - Last Food Truck of this Season!! Come and join!!!
DESCRIPTION:
URL:https://7-harbors.org/event/wednesday-august-28th-5pm-last-food-truck-of-this-season-come-and-join/
LOCATION:7 Harbors Central Park\, Highland\, MI\, 48357\, United States
CATEGORIES:Community
ORGANIZER;CN="7 Harbors":MAILTO:contact@sevenharbors.org
END:VEVENT
BEGIN:VEVENT
DTSTART;TZID=America/Detroit:20240724T170000
DTEND;TZID=America/Detroit:20240724T200000
DTSTAMP:20260423T154412
CREATED:20240723T204345Z
LAST-MODIFIED:20240723T204345Z
UID:4360-1721840400-1721851200@7-harbors.org
SUMMARY:Food Food Foodtruck in the house!!! July 24th\, 2024 5pm\, Central Park
DESCRIPTION:
URL:https://7-harbors.org/event/food-food-foodtruck-in-the-house-july-24th-2024-5pm-central-park/
LOCATION:7 Harbors Central Park\, Highland\, MI\, 48357\, United States
CATEGORIES:Community
ORGANIZER;CN="7 Harbors":MAILTO:contact@sevenharbors.org
END:VEVENT
BEGIN:VEVENT
DTSTART;TZID=America/Detroit:20240629T100000
DTEND;TZID=America/Detroit:20240629T140000
DTSTAMP:20260423T154412
CREATED:20240616T092209Z
LAST-MODIFIED:20240616T092215Z
UID:4310-1719655200-1719669600@7-harbors.org
SUMMARY:2024 Saturday June 29th 10am - 7 Harbors 4th of July Bike Parade
DESCRIPTION:
URL:https://7-harbors.org/event/2024-saturday-june-29th-10am-7-harbors-4th-of-july-bike-parade/
LOCATION:7 Harbors\, Highland TWP\, MI\, 48356\, United States
CATEGORIES:Community
ORGANIZER;CN="7 Harbors":MAILTO:contact@sevenharbors.org
END:VEVENT
BEGIN:VEVENT
DTSTART;TZID=America/Detroit:20240619T170000
DTEND;TZID=America/Detroit:20240619T190000
DTSTAMP:20260423T154412
CREATED:20240616T141636Z
LAST-MODIFIED:20240616T141636Z
UID:4330-1718816400-1718823600@7-harbors.org
SUMMARY:June Food Truck June 19th 5pm 7 Harbors Central Park
DESCRIPTION:
URL:https://7-harbors.org/event/june-food-truck-june-19th-5pm-7-harbors-central-park/
LOCATION:7 Harbors Central Park\, Highland\, MI\, 48357\, United States
CATEGORIES:Community
ORGANIZER;CN="7 Harbors":MAILTO:contact@sevenharbors.org
END:VEVENT
BEGIN:VEVENT
DTSTART;TZID=America/Detroit:20240603T190000
DTEND;TZID=America/Detroit:20240603T203000
DTSTAMP:20260423T154412
CREATED:20240511T103531Z
LAST-MODIFIED:20240511T103531Z
UID:4252-1717441200-1717446600@7-harbors.org
SUMMARY:7 Harbors June GMM\, June 3rd\, 2024 at 7pm WFW
DESCRIPTION:Please join us at our June 2024 GMM at 7pm at the VFW Hall\n \n\n 	\nGeneral Updates\n\n \n 	\nBudget 2024-2025 Presentation and Voting\n\n \n 	\n4th of July preparation\n\n \n 	\nOther topics and information
URL:https://7-harbors.org/event/7-harbors-june-gmm-june-3rd-2024-at-7pm-wfw/
LOCATION:VFW Post 9914\, 3200 N. Duck Lake Rd\, Highland\, MI\, 48356\, United States
CATEGORIES:Community,Meetings,VFW
ORGANIZER;CN="7 Harbors":MAILTO:contact@sevenharbors.org
END:VEVENT
BEGIN:VEVENT
DTSTART;TZID=America/Detroit:20240529T170000
DTEND;TZID=America/Detroit:20240529T200000
DTSTAMP:20260423T154412
CREATED:20240519T212727Z
LAST-MODIFIED:20240519T212921Z
UID:4279-1717002000-1717012800@7-harbors.org
SUMMARY:Our Monthly Food Truck is back in town!! May 29th\, Central Park 5 to 8pm
DESCRIPTION:
URL:https://7-harbors.org/event/our-monthly-food-truck-is-back-in-town-may-29th-central-park-5-to-8pm/
LOCATION:7 Harbors Central Park\, Highland\, MI\, 48357\, United States
CATEGORIES:Community
ORGANIZER;CN="7 Harbors":MAILTO:contact@sevenharbors.org
END:VEVENT
BEGIN:VEVENT
DTSTART;TZID=America/Detroit:20231105T100000
DTEND;TZID=America/Detroit:20231105T133000
DTSTAMP:20260423T154412
CREATED:20231103T233102Z
LAST-MODIFIED:20231103T233141Z
UID:4150-1699178400-1699191000@7-harbors.org
SUMMARY:7 Harbors Fall Clean Up November 5th\, 2023\, 10am Meeting Point at Winebasket
DESCRIPTION:Neighbors! Grab your rakes and other yard tools and join us for the 7 harbors community wide fall cleanup.\nSunday November 5 at 10 am! We will meet at the Beaumont entrance and head to a few additional areas-\nDuck lake beach\, Central park and others as needed. We will be cleaning out any trash\, removing brush\, etc.  We will have some yard bags but feel free to bring your own.  See you there!\n 
URL:https://7-harbors.org/event/4150/
LOCATION:7 Harbors\, Highland TWP\, MI\, 48356\, United States
CATEGORIES:Community,Volunteering
ORGANIZER;CN="7 Harbors":MAILTO:contact@sevenharbors.org
END:VEVENT
BEGIN:VEVENT
DTSTART;TZID=America/Detroit:20230925T190000
DTEND;TZID=America/Detroit:20230925T210000
DTSTAMP:20260423T154412
CREATED:20230830T225113Z
LAST-MODIFIED:20230830T225125Z
UID:4080-1695668400-1695675600@7-harbors.org
SUMMARY:2024/25 Board Member and Trustees Election Night
DESCRIPTION:2024/25 Board Member and Trustees Nominations\n\n\nDear respected members of our community\, \nthe nominations for the 2024/25 board members and trustees were completed during our August 28th\, 2023\, General Members Meeting. \nThank you to all volunteers that would like to be part of this community and to take an active role in how to shape our future for all of us. \nThe following association members were nominated for the 2024/25 Board and Trustees: \nExecutive Board\nPresident – Bob Schiff nominated Aleta Dyling\nVice–President – Kelly Linson nominated Robert Linson\nSecond Vice-President – Aleta Dyling nominated Jeff Bosch\nTreasurer – Shelly Kirchner nominated Sharon Crary\nSecretary – Aleta Dyling nominated Nancy Drury \nTrustees\nAleta Dyling nominated Nichole Slating\, Steve Kirchner\, Joan Cooper\, Justin Klopf\, Vicki Zellinger and Rhonda Linovitz.\nJoan Cooper nominated DeAnne Craw and Natalie Gardner\nNichole Slating nominated Scott Rickert\nNancy Oltsevig nominated Nick Kutsoginis\nJodi Michela nominated Kevin Wickers and Tim Pautsch \nThe voting for the new board and trustees will be done on September 25th\,2023\, 7pm at the VFW Hall. \nVoting Rules and Proxy Forms can be found by clicking this link: \nVoting Rules | Beaumont’s Seven Harbors White and Duck Lake Association (7-harbors.org)
URL:https://7-harbors.org/event/2024-25-board-member-and-trustees-election-night/
LOCATION:VFW Hall
CATEGORIES:Community,Meetings,VFW
ORGANIZER;CN="7 Harbors":MAILTO:contact@sevenharbors.org
END:VEVENT
BEGIN:VEVENT
DTSTART;TZID=America/Detroit:20230923T070000
DTEND;TZID=America/Detroit:20230923T140000
DTSTAMP:20260423T154412
CREATED:20230413T100956Z
LAST-MODIFIED:20230908T175222Z
UID:3838-1695452400-1695477600@7-harbors.org
SUMMARY:2023 Annual 7 Harbors & Wine Basket Golf Outing is on September 23rd\, 2023
DESCRIPTION:2023 Annual 7 Harbors & Wine Basket Golf Outing Registration is open!!!!\n\n\n \nDon’t Golf but still want to support 7 Harbors. Sponsor a Hole or just join us for the Steak Dinner Only. Everyone is welcome!!!\n\n\n \nLet’s have another year of a great fun!! Register now at the Wine Basket http://www.winebasketmarket.com/ tickets will go fast!!\n\n\n \nRegistration Form can be downloaded and printed from here:\nhttps://7-harbors.org/2023-annual-7-harbors-wine-basket…/\n\n\n \nPlease use cash or check only when you turn in your registration form at the Wine Basket\n\n\n \n\n\n  \n 
URL:https://7-harbors.org/event/2023-annual-7-harbors-wine-basket-golf-outing-is-on-september-23rd-2023/
LOCATION:Highland Hills Golf Club\, 2075 Oakland\, Highland\, MI\, 48356\, United States
CATEGORIES:Community
ORGANIZER;CN="7 Harbors":MAILTO:contact@sevenharbors.org
END:VEVENT
BEGIN:VEVENT
DTSTART;TZID=America/Detroit:20230816T170000
DTEND;TZID=America/Detroit:20230816T200000
DTSTAMP:20260423T154412
CREATED:20230325T134646Z
LAST-MODIFIED:20230813T140451Z
UID:3642-1692205200-1692216000@7-harbors.org
SUMMARY:7 Harbors Community Food Truck August 16th\, 5pm at Central Park
DESCRIPTION:We are excited to continue our Food Extravaganza for our community in 2023. Join us at Central Park\, get some food\, meet your neighbors and make new friends.  \nBring your own chairs and table to central park and come and have a nice evening.  \nWe will update you in time for the Food Truck and Menu before the event.  \n \n 
URL:https://7-harbors.org/event/7-harbors-community-food-truck-4/
LOCATION:7 Harbors Central Park\, Highland\, MI\, 48357\, United States
CATEGORIES:Community
ORGANIZER;CN="7 Harbors":MAILTO:contact@sevenharbors.org
END:VEVENT
BEGIN:VEVENT
DTSTART;TZID=America/Detroit:20230719T170000
DTEND;TZID=America/Detroit:20230719T200000
DTSTAMP:20260423T154412
CREATED:20230325T134530Z
LAST-MODIFIED:20230715T135917Z
UID:3640-1689786000-1689796800@7-harbors.org
SUMMARY:7 Harbors Community Food Truck
DESCRIPTION:We are excited to continue our Food Extravaganza for our community in 2023. Join us at Central Park\, get some food\, meet your neighbors and make new friends.  \nBring your own chairs and table to central park and come and have a nice evening.  \nWe will update you in time for the Food Truck and Menu before the event. 
URL:https://7-harbors.org/event/7-harbors-community-food-truck-3/
LOCATION:7 Harbors Central Park\, Highland\, MI\, 48357\, United States
CATEGORIES:Community
ORGANIZER;CN="7 Harbors":MAILTO:contact@sevenharbors.org
END:VEVENT
BEGIN:VEVENT
DTSTART;TZID=America/Detroit:20230701T093000
DTEND;TZID=America/Detroit:20230701T130000
DTSTAMP:20260423T154412
CREATED:20230522T121911Z
LAST-MODIFIED:20230522T122339Z
UID:3903-1688203800-1688216400@7-harbors.org
SUMMARY:2023 Annual 4th of July Bike Parade - Saturday July 1st\, Meet at 9.30am at our South Beach Entrance
DESCRIPTION:Please join us for our 2023 Annual 4th of July Bike Parade. Bring you families friends and kids and lots of dressed up bikes\, golf carts\, strollers or just dress up yourself and walk with the many kids on our bike parade. We are looking forward to all of you to have a great time to celebrate this year’s 4th of July!!
URL:https://7-harbors.org/event/2023-annual-4th-of-july-bike-parade-saturday-july-1st-meet-at-9-30am-at-our-south-beach-entrance/
LOCATION:7 Harbors South Beach\, Highland TWP\, 48356\, United States
CATEGORIES:Community
ORGANIZER;CN="7 Harbors":MAILTO:contact@sevenharbors.org
END:VEVENT
BEGIN:VEVENT
DTSTART;TZID=America/Detroit:20230621T170000
DTEND;TZID=America/Detroit:20230621T200000
DTSTAMP:20260423T154412
CREATED:20230325T134414Z
LAST-MODIFIED:20230325T134414Z
UID:3638-1687366800-1687377600@7-harbors.org
SUMMARY:7 Harbors Community Food Truck
DESCRIPTION:We are excited to continue our Food Extravaganza for our community in 2023. Join us at Central Park\, get some food\, meet your neighbors and make new friends.  \nBring your own chairs and table to central park and come and have a nice evening.  \nWe will update you in time for the Food Truck and Menu before the event.  \n 
URL:https://7-harbors.org/event/7-harbors-community-food-truck-2/
LOCATION:7 Harbors Central Park\, Highland\, MI\, 48357\, United States
CATEGORIES:Community
ORGANIZER;CN="7 Harbors":MAILTO:contact@sevenharbors.org
END:VEVENT
BEGIN:VEVENT
DTSTART;TZID=America/Detroit:20230603T090000
DTEND;TZID=America/Detroit:20230603T170000
DTSTAMP:20260423T154412
CREATED:20230411T133922Z
LAST-MODIFIED:20230525T140723Z
UID:3833-1685782800-1685811600@7-harbors.org
SUMMARY:2023 Beaumont’s Seven Harbors White and Duck Lake Community Garage Sale
DESCRIPTION:Join us for our 2023 Beaumont’s Seven Harbors White and Duck Lake Community Garage Sale. Everyone is welcome.
URL:https://7-harbors.org/event/2023-beaumonts-seven-harbors-white-and-duck-lake-community-garage-sale/
LOCATION:7 Harbors\, Highland TWP\, MI\, 48356\, United States
CATEGORIES:Community
ORGANIZER;CN="7 Harbors":MAILTO:contact@sevenharbors.org
END:VEVENT
BEGIN:VEVENT
DTSTART;TZID=America/Detroit:20230529T083000
DTEND;TZID=America/Detroit:20230529T113000
DTSTAMP:20260423T154412
CREATED:20230517T122911Z
LAST-MODIFIED:20230517T123649Z
UID:3874-1685349000-1685359800@7-harbors.org
SUMMARY:WLCL Annual Pancake Breakfast
DESCRIPTION:And there is more happening in our great community. Join our friends of the White Lake Citizens League for their annual Pancake Breakfast on May 29th\, 2023.
URL:https://7-harbors.org/event/wlcl-annual-pancake-breakfast/
LOCATION:White Lake Inn Bay\, 3955 Ormond Rd\, White Lake\, Michigan\, 48383\, United States
CATEGORIES:Community,White Lake Citizens League
END:VEVENT
BEGIN:VEVENT
DTSTART;TZID=America/Detroit:20230521T090000
DTEND;TZID=America/Detroit:20230521T150000
DTSTAMP:20260423T154412
CREATED:20230517T122407Z
LAST-MODIFIED:20230517T122407Z
UID:3871-1684659600-1684681200@7-harbors.org
SUMMARY:VFW Bikes\, Hotrods and Truck Blessing
DESCRIPTION:Hello bikers of 7 Harbors. Join our friends of the VFW Post on Sunday May 21st\, 2023. Trucks and Hotrods are welcome too  Ride safe!!!
URL:https://7-harbors.org/event/vfw-bikes-hotrods-and-truck-blessing/
LOCATION:VFW Post 9914\, 3200 N. Duck Lake Rd\, Highland\, MI\, 48356\, United States
CATEGORIES:Community,VFW
END:VEVENT
BEGIN:VEVENT
DTSTART;TZID=America/Detroit:20230517T170000
DTEND;TZID=America/Detroit:20230517T200000
DTSTAMP:20260423T154412
CREATED:20230325T134252Z
LAST-MODIFIED:20230506T124656Z
UID:3636-1684342800-1684353600@7-harbors.org
SUMMARY:7 Harbors Community Food Truck
DESCRIPTION:We are excited to continue our Food Extravaganza for our community in 2023. Join us at Central Park\, get some food\, meet your neighbors and make new friends.  \nBring your own chairs and table to central park and come and have a nice evening.  \nWe will update you in time for the Food Truck and Menu before the event.  \n \n 
URL:https://7-harbors.org/event/7-harbors-community-food-truck/
LOCATION:7 Harbors Central Park\, Highland\, MI\, 48357\, United States
CATEGORIES:Community
ORGANIZER;CN="7 Harbors":MAILTO:contact@sevenharbors.org
END:VEVENT
BEGIN:VEVENT
DTSTART;TZID=America/Detroit:20230401T120000
DTEND;TZID=America/Detroit:20230401T140000
DTSTAMP:20260423T154412
CREATED:20230325T145133Z
LAST-MODIFIED:20230325T145341Z
UID:3644-1680350400-1680357600@7-harbors.org
SUMMARY:7 Harbors & Eagles Easter Egg Hunt April 1st\, 2023
DESCRIPTION:2023 7 Harbors Easter Egg Hunt at the Highland Eagles. \nHot Dogs and a good time for you and your kids. Come and join us for this fun event!!
URL:https://7-harbors.org/event/7-harbors-eagles-easter-egg-hunt-april-1st-2023/
LOCATION:Highland Eagle Hall\, 4450 N Duck Lake Rd\, Highland\, MI\, 48356\, United States
CATEGORIES:Community
ORGANIZER;CN="7 Harbors":MAILTO:contact@sevenharbors.org
END:VEVENT
BEGIN:VEVENT
DTSTART;TZID=America/Detroit:20221209T190000
DTEND;TZID=America/Detroit:20221209T203000
DTSTAMP:20260423T154412
CREATED:20221209T225105Z
LAST-MODIFIED:20221209T225331Z
UID:3446-1670612400-1670617800@7-harbors.org
SUMMARY:2022 Holiday Celebration Nice Get Together with the Community at the VfW
DESCRIPTION:Come and join us to this informal event with the neighborhood. Bring what you like and just come and have a drink to get to know each other better and to thank all of you for a great year.  See you there for a drink and some talking.
URL:https://7-harbors.org/event/2022-holiday-celebration-nice-get-together-with-the-community-at-the-vfw/
LOCATION:VFW Post 9914\, 3200 N. Duck Lake Rd\, Highland\, MI\, 48356\, United States
CATEGORIES:Community
ORGANIZER;CN="7 Harbors":MAILTO:contact@sevenharbors.org
END:VEVENT
BEGIN:VEVENT
DTSTART;TZID=America/Detroit:20221031T180000
DTEND;TZID=America/Detroit:20221031T210000
DTSTAMP:20260423T154412
CREATED:20220525T010413Z
LAST-MODIFIED:20221023T140324Z
UID:2702-1667239200-1667250000@7-harbors.org
SUMMARY:2022 Halloween - 7 Harbors Trick or Treat
DESCRIPTION:
URL:https://7-harbors.org/event/2022-halloween-7-harbors-trick-or-treat/
LOCATION:7 Harbors\, Highland TWP\, MI\, 48356\, United States
CATEGORIES:Community
ORGANIZER;CN="7 Harbors":MAILTO:contact@sevenharbors.org
END:VEVENT
BEGIN:VEVENT
DTSTART;TZID=America/Detroit:20221029T110000
DTEND;TZID=America/Detroit:20221029T140000
DTSTAMP:20260423T154412
CREATED:20220525T010646Z
LAST-MODIFIED:20221023T140435Z
UID:2706-1667041200-1667052000@7-harbors.org
SUMMARY:2022 Trunk or Treat
DESCRIPTION:We are having a Halloween party for elementary age or under children in the community\, it will be held Saturday\, October 29h at 11:00am. Please contact Jodi at jodi.michela@sevenharbors.org if you would like to participate or volunteer to make this a great event for our kids.
URL:https://7-harbors.org/event/2022-trunk-or-treat/
LOCATION:7 Harbors\, Highland TWP\, MI\, 48356\, United States
CATEGORIES:Community
ORGANIZER;CN="7 Harbors":MAILTO:contact@sevenharbors.org
END:VEVENT
BEGIN:VEVENT
DTSTART;TZID=America/Detroit:20221015T093000
DTEND;TZID=America/Detroit:20221015T130000
DTSTAMP:20260423T154412
CREATED:20221009T121914Z
LAST-MODIFIED:20221017T193249Z
UID:3356-1665826200-1665838800@7-harbors.org
SUMMARY:7 Harbors Work Day
DESCRIPTION:Please come and help us at 7 Harbors Southbeach to repair some of our shoreline. Let’s do this together and safe our community some money. Come for an hour or the whole time\, we need some helping hands!!!
URL:https://7-harbors.org/event/3356/
LOCATION:7 Harbors\, Highland TWP\, MI\, 48356\, United States
CATEGORIES:Community
ORGANIZER;CN="7 Harbors":MAILTO:contact@sevenharbors.org
END:VEVENT
BEGIN:VEVENT
DTSTART;TZID=America/Detroit:20221008T160000
DTEND;TZID=America/Detroit:20221008T200000
DTSTAMP:20260423T154412
CREATED:20220922T214600Z
LAST-MODIFIED:20220928T031350Z
UID:3301-1665244800-1665259200@7-harbors.org
SUMMARY:7 Harbors First Ever Chili Cook Off 2022
DESCRIPTION:Our first ever Chili Cook Off in 7 Harbors. The community battles for the best Chili Cook of the Neighborhood. \nMore and more and more community!! Come and let’s get together 😃 \n– Bring your chairs and enjoy a nice afternoon at the bonfire\n– Bring your own beverages\n– Have some cash with you for purchasing your tasting cups and to receive a voting ballot to crown the best Chili Chef of the Neighborhood 2022 🌶
URL:https://7-harbors.org/event/7-harbors-first-ever-chili-cook-off-2022/
LOCATION:7 Harbors South Beach\, Highland TWP\, 48356\, United States
CATEGORIES:Community
ORGANIZER;CN="7 Harbors":MAILTO:contact@sevenharbors.org
END:VEVENT
BEGIN:VEVENT
DTSTART;TZID=America/Detroit:20220914T170000
DTEND;TZID=America/Detroit:20220914T200000
DTSTAMP:20260423T154412
CREATED:20220905T134828Z
LAST-MODIFIED:20220909T224029Z
UID:3292-1663174800-1663185600@7-harbors.org
SUMMARY:September 14th - Food Truck at 7 Harbors Central Park
DESCRIPTION:Foot Truck Time\, Happy Time\, Fun Time\, Community Time\,\nCome and Join us on September 14th at Central Park!!\n 
URL:https://7-harbors.org/event/september-14th-food-truck-at-7-harbors-central-park/
LOCATION:7 Harbors Central Park\, Highland\, MI\, 48357\, United States
CATEGORIES:Community
ORGANIZER;CN="7 Harbors":MAILTO:contact@sevenharbors.org
END:VEVENT
BEGIN:VEVENT
DTSTART;VALUE=DATE:20220910
DTEND;VALUE=DATE:20220911
DTSTAMP:20260423T154412
CREATED:20220525T145458Z
LAST-MODIFIED:20220816T010936Z
UID:2712-1662768000-1662854399@7-harbors.org
SUMMARY:2022 7 Harbors & Wine Basket Annual Golf Outing
DESCRIPTION:2022 7 Harbors & Wine Basket Golf Outing is on September 10th\, 2022.  \nRegistration is Open – 2022 – 7 Harbors & Wine Basket Golf Outing \nCome and join us to have a good time\, great steak dinner with awesome people and a fun day. Come to the Wine Basket and register today. \nPrint out the registration form and pay by check to 7 Harbors White and Duck Lake Association at the Wine Basket. \nWine Basket Market\n3542 N. Duck Lake Road.\nHighland\, MI 48356\n(N. of Highland Road.)\nMap and Directions Click Here\nStore Hours: Mon – Thurs: 9am-10pm\, Fri – Sat: 9am-11pm\, Sunday: 10am-9pm \n \nPlease reach out to Nick at the Wine Basket or Jodi Michela\, Nichole Slating for your registration or questions. 
URL:https://7-harbors.org/event/2022-7-harbors-winebasket-golf-outing/
LOCATION:Highland Hills Golf Club\, 2075 Oakland\, Highland\, MI\, 48356\, United States
CATEGORIES:Community
ORGANIZER;CN="7 Harbors":MAILTO:contact@sevenharbors.org
END:VEVENT
BEGIN:VEVENT
DTSTART;TZID=America/Detroit:20220817T170000
DTEND;TZID=America/Detroit:20220817T200000
DTSTAMP:20260423T154412
CREATED:20220813T012604Z
LAST-MODIFIED:20220813T012605Z
UID:3120-1660755600-1660766400@7-harbors.org
SUMMARY:
DESCRIPTION:Its time again for our famous Food Truck Night in 7 Harbors\, Central Park. Come and join us for good food\, great people and fun.  \n \n 
URL:https://7-harbors.org/event/3120/
LOCATION:7 Harbors\, Highland TWP\, MI\, 48356\, United States
CATEGORIES:Community
ORGANIZER;CN="7 Harbors":MAILTO:contact@sevenharbors.org
END:VEVENT
BEGIN:VEVENT
DTSTART;TZID=America/Detroit:20220706T170000
DTEND;TZID=America/Detroit:20220706T200000
DTSTAMP:20260423T154412
CREATED:20220625T125907Z
LAST-MODIFIED:20220625T125907Z
UID:2769-1657126800-1657137600@7-harbors.org
SUMMARY:IT’S FOOD TRUCK NIGHT IN 7-H  CENTRAL PARK AGAIN!
DESCRIPTION:
URL:https://7-harbors.org/event/its-food-truck-night-in-7-h-central-park-again/
LOCATION:7 Harbors Central Park\, Highland\, MI\, 48357\, United States
CATEGORIES:Community
ORGANIZER;CN="7 Harbors":MAILTO:contact@sevenharbors.org
END:VEVENT
BEGIN:VEVENT
DTSTART;TZID=America/Detroit:20220702T140000
DTEND;TZID=America/Detroit:20220702T170000
DTSTAMP:20260423T154412
CREATED:20220412T191452Z
LAST-MODIFIED:20220415T214055Z
UID:2496-1656770400-1656781200@7-harbors.org
SUMMARY:Whitelake Boat Parade @ Mitchell's Marina
DESCRIPTION:
URL:https://7-harbors.org/event/whitelake-boat-parade-mitchells-marina/
LOCATION:White Lake Inn Bay\, 3955 Ormond Rd\, White Lake\, Michigan\, 48383\, United States
CATEGORIES:Community,White Lake Citizens League
END:VEVENT
END:VCALENDAR